BEGIN:VCALENDAR
VERSION:2.0
PRODID:-//Kulturerbenetz.Berlin - ECPv6.15.20//NONSGML v1.0//EN
CALSCALE:GREGORIAN
METHOD:PUBLISH
X-WR-CALNAME:Kulturerbenetz.Berlin
X-ORIGINAL-URL:https://kulturerbenetz.berlin
X-WR-CALDESC:Veranstaltungen für Kulturerbenetz.Berlin
REFRESH-INTERVAL;VALUE=DURATION:PT1H
X-Robots-Tag:noindex
X-PUBLISHED-TTL:PT1H
BEGIN:VTIMEZONE
TZID:Europe/Berlin
BEGIN:DAYLIGHT
TZOFFSETFROM:+0100
TZOFFSETTO:+0200
TZNAME:CEST
DTSTART:20240331T010000
END:DAYLIGHT
BEGIN:STANDARD
TZOFFSETFROM:+0200
TZOFFSETTO:+0100
TZNAME:CET
DTSTART:20241027T010000
END:STANDARD
BEGIN:DAYLIGHT
TZOFFSETFROM:+0100
TZOFFSETTO:+0200
TZNAME:CEST
DTSTART:20250330T010000
END:DAYLIGHT
BEGIN:STANDARD
TZOFFSETFROM:+0200
TZOFFSETTO:+0100
TZNAME:CET
DTSTART:20251026T010000
END:STANDARD
BEGIN:DAYLIGHT
TZOFFSETFROM:+0100
TZOFFSETTO:+0200
TZNAME:CEST
DTSTART:20260329T010000
END:DAYLIGHT
BEGIN:STANDARD
TZOFFSETFROM:+0200
TZOFFSETTO:+0100
TZNAME:CET
DTSTART:20261025T010000
END:STANDARD
END:VTIMEZONE
BEGIN:VEVENT
DTSTART;TZID=Europe/Berlin:20250715T163000
DTEND;TZID=Europe/Berlin:20250715T173000
DTSTAMP:20260424T133100
CREATED:20250710T053802Z
LAST-MODIFIED:20250710T053914Z
UID:11172-1752597000-1752600600@kulturerbenetz.berlin
SUMMARY:AAA-Online: Postmoderne
DESCRIPTION:Je älter man wird\, desto jünger werden die Denkmale … \n\n\n\nOnline-Talk zum spät- und postmodernen Kulturerbe in der Reihe der Anti-Abriss-Allianz\n\n\n\nAls Mitglied des Netzwerks „moderne2000“ berichtet Robinson Michel von „Die Betonisten“\, wie postmoderne Bauten unter Schutz kommen – oder eben nicht. Im Gespräch mit dem der Instagramer Uwe Janßen alias „frida hockauf“ stehen dann das Suchen\, Entdecken und Teilen spätmoderner Schönheiten im Mittelpunkt. Moderiert wird der Talk von Karin Berkemann (moderneREGIONAL).  \n\n\n\nDie Teilnahme ist kostenfrei\, ohne Anmeldung zugänglich und findet online in diesem Zoom-Raum statt: https://us06web.zoom.us/j/2436945325?pwd=bHZNQmhZODQrRldzQ3h4R3NVZms2Zz09 
URL:https://kulturerbenetz.berlin/veranstaltung/aaa-online-15-07/
LOCATION:Online-Angebote\, Links siehe Beitrag\, Deutschland
CATEGORIES:Anti-Abriss-Allianz,Diskussions-Veranstaltungen,KulturerbeNetz-Termine,Vorträge
ATTACH;FMTTYPE=image/jpeg:https://kulturerbenetz.berlin/wp-content/uploads/2025/07/25-07-15-kachel-moderne2000-hannover-expo-pavillon-bild-Flocci-Nivis-cc-by-sa-4.0-2023.jpg
ORGANIZER;CN="Anti-Abriss-Allianz f%C3%BCr Umbaukultur (AAA)":MAILTO:info@anti-abriss-allianz.de
END:VEVENT
END:VCALENDAR