BEGIN:VCALENDAR
VERSION:2.0
PRODID:-//Kulturerbenetz.Berlin - ECPv6.15.20//NONSGML v1.0//EN
CALSCALE:GREGORIAN
METHOD:PUBLISH
X-WR-CALNAME:Kulturerbenetz.Berlin
X-ORIGINAL-URL:https://kulturerbenetz.berlin
X-WR-CALDESC:Veranstaltungen für Kulturerbenetz.Berlin
REFRESH-INTERVAL;VALUE=DURATION:PT1H
X-Robots-Tag:noindex
X-PUBLISHED-TTL:PT1H
BEGIN:VTIMEZONE
TZID:Europe/Berlin
BEGIN:DAYLIGHT
TZOFFSETFROM:+0100
TZOFFSETTO:+0200
TZNAME:CEST
DTSTART:20240331T010000
END:DAYLIGHT
BEGIN:STANDARD
TZOFFSETFROM:+0200
TZOFFSETTO:+0100
TZNAME:CET
DTSTART:20241027T010000
END:STANDARD
BEGIN:DAYLIGHT
TZOFFSETFROM:+0100
TZOFFSETTO:+0200
TZNAME:CEST
DTSTART:20250330T010000
END:DAYLIGHT
BEGIN:STANDARD
TZOFFSETFROM:+0200
TZOFFSETTO:+0100
TZNAME:CET
DTSTART:20251026T010000
END:STANDARD
BEGIN:DAYLIGHT
TZOFFSETFROM:+0100
TZOFFSETTO:+0200
TZNAME:CEST
DTSTART:20260329T010000
END:DAYLIGHT
BEGIN:STANDARD
TZOFFSETFROM:+0200
TZOFFSETTO:+0100
TZNAME:CET
DTSTART:20261025T010000
END:STANDARD
END:VTIMEZONE
BEGIN:VEVENT
DTSTART;TZID=Europe/Berlin:20250723T110000
DTEND;TZID=Europe/Berlin:20250723T120000
DTSTAMP:20260424T104309
CREATED:20250710T054645Z
LAST-MODIFIED:20250731T115128Z
UID:11177-1753268400-1753272000@kulturerbenetz.berlin
SUMMARY:AAA-Online: Jugendarbeit
DESCRIPTION:Vom Stein zur Story – Denkmäler für junge Entdecker\n\n\n\nWie können junge Menschen für die Denkmalpflege begeistert werden? Bisher wurde der Vermittlungsauftrag der Denkmalpflege akademisch von den Landesdenkmalämtern wahrgenommen\, praktisch aber vor allem von Vereinen vorangetrieben. In unserer Online-Veranstaltung beleuchten wir die Vermittlungsangebote unserer Partner „Denk mal an Berlin e. V.“ (Dr. Elisabeth Ziemer) und des Berliner Ortskuratoriums der „Deutschen Stiftung Denkmalschutz“ (Heike Pieper) und zeigen auf\, wie das Freiwillige Jahr eine Brücke zwischen Engagement und Erhalt historischer Bauten schlagen kann. Der Leiter der Jugendbauhütte Berlin (Henrik Drewes) gibt Einblicke in seine Arbeit mit jungen Erwachsenen und lädt die Expert:innen der AAA ein\, die Jugendbauhütte mit Impulsen zu unterstützen.  \n\n\n\nModeration: Corinna Tell\, Redaktion Rote Liste im Deutschen Verband für Kunstgeschichte e. V. \n\n\n\nDer Termin ist kostenfrei\, ohne Anmeldung zugänglich und findet online in diesem Zoom-Raum statt: https://us06web.zoom.us/j/2436945325?pwd=bHZNQmhZODQrRldzQ3h4R3NVZms2Zz09 
URL:https://kulturerbenetz.berlin/veranstaltung/aaa-online-jugendarbeit/
LOCATION:Online-Angebote\, Links siehe Beitrag\, Deutschland
CATEGORIES:Anti-Abriss-Allianz,Diskussions-Veranstaltungen,KENB-Mitglieder-Events,KulturerbeNetz-Termine,Vorträge
ATTACH;FMTTYPE=image/jpeg:https://kulturerbenetz.berlin/wp-content/uploads/2019/05/DB_02_KulturerbeNW06.jpg
ORGANIZER;CN="Anti-Abriss-Allianz f%C3%BCr Umbaukultur (AAA)":MAILTO:info@anti-abriss-allianz.de
END:VEVENT
END:VCALENDAR