BEGIN:VCALENDAR
VERSION:2.0
PRODID:-//Kulturerbenetz.Berlin - ECPv6.15.20//NONSGML v1.0//EN
CALSCALE:GREGORIAN
METHOD:PUBLISH
X-WR-CALNAME:Kulturerbenetz.Berlin
X-ORIGINAL-URL:https://kulturerbenetz.berlin
X-WR-CALDESC:Veranstaltungen für Kulturerbenetz.Berlin
REFRESH-INTERVAL;VALUE=DURATION:PT1H
X-Robots-Tag:noindex
X-PUBLISHED-TTL:PT1H
BEGIN:VTIMEZONE
TZID:Europe/Berlin
BEGIN:DAYLIGHT
TZOFFSETFROM:+0100
TZOFFSETTO:+0200
TZNAME:CEST
DTSTART:20250330T010000
END:DAYLIGHT
BEGIN:STANDARD
TZOFFSETFROM:+0200
TZOFFSETTO:+0100
TZNAME:CET
DTSTART:20251026T010000
END:STANDARD
BEGIN:DAYLIGHT
TZOFFSETFROM:+0100
TZOFFSETTO:+0200
TZNAME:CEST
DTSTART:20260329T010000
END:DAYLIGHT
BEGIN:STANDARD
TZOFFSETFROM:+0200
TZOFFSETTO:+0100
TZNAME:CET
DTSTART:20261025T010000
END:STANDARD
BEGIN:DAYLIGHT
TZOFFSETFROM:+0100
TZOFFSETTO:+0200
TZNAME:CEST
DTSTART:20270328T010000
END:DAYLIGHT
BEGIN:STANDARD
TZOFFSETFROM:+0200
TZOFFSETTO:+0100
TZNAME:CET
DTSTART:20271031T010000
END:STANDARD
END:VTIMEZONE
BEGIN:VEVENT
DTSTART;TZID=Europe/Berlin:20260416T130000
DTEND;TZID=Europe/Berlin:20260416T140000
DTSTAMP:20260422T210003
CREATED:20260305T131114Z
LAST-MODIFIED:20260305T131334Z
UID:12207-1776344400-1776348000@kulturerbenetz.berlin
SUMMARY:AAA-Talk: Betongold
DESCRIPTION:Donnerstag\, 16. April 2026 13:00–13:45 Uhr\n\n\n\nBetongold nutzen – Brutalistische Bauten neu gedacht\n\n\n\n\n\nSeien wir ehrlich\, Beton bei Regen ist erklärungsbedürftig. Aber bei Licht betrachtet\, kommen beeindruckende Formen und Farben zum Vorschein. Die Uni-Mensa in Saarbrücken etwa besticht seit 1970 durch das Zusammenspiel eines klaren Entwurfs von Walter Schrempf mit den leuchtentenden Zeichen des Künstlers Otto Herbert Hajek. Im Online-Talk der Anti-Abriss-Allianz beleuchten wir gleich noch einen zweites bemerkenswertes Betonmonster: das Justizzentrum in München\, 1977 gestaltet vom Architekten Peter Kaup. Unsere beiden Gäste – Robert Philipp von der Münchener Initiative „AbbrechenAbbrechen!“ und Mona Schrempf vom Saarbrücker Architekturarchiv „arbakus“ – berichten über die Werte dieser Bauten\, über die Probleme im Erhalt und die Chancen einer neuen Nutzung. \n\n\n\n\n\n\n\n\n\n\n\nModeration: Karin Berkemann\, moderneREGIONALNähere Infors: https://kulturerbenetz.berlin/anti-abriss-allianz/info-reihe/kostenfrei und ohne Anmeldung via: https://us06web.zoom.us/j/2436945325?pwd=bHZNQmhZODQrRldzQ3h4R3NVZms2Zz09
URL:https://kulturerbenetz.berlin/veranstaltung/aaa-talk-betongold/
LOCATION:Online-Angebote\, Links siehe Beitrag\, Deutschland
CATEGORIES:Anti-Abriss-Allianz,Diskussions-Veranstaltungen,KulturerbeNetz-Termine,Live-Streams,Vorträge
ATTACH;FMTTYPE=image/jpeg:https://kulturerbenetz.berlin/wp-content/uploads/2026/03/Saarbruecken-Mensa-Bild-K-Berkemann-2025-2.jpg
ORGANIZER;CN="Anti-Abriss-Allianz f%C3%BCr Umbaukultur (AAA)":MAILTO:info@anti-abriss-allianz.de
END:VEVENT
END:VCALENDAR