BEGIN:VCALENDAR
VERSION:2.0
PRODID:-//Kulturerbenetz.Berlin - ECPv6.15.20//NONSGML v1.0//EN
CALSCALE:GREGORIAN
METHOD:PUBLISH
X-WR-CALNAME:Kulturerbenetz.Berlin
X-ORIGINAL-URL:https://kulturerbenetz.berlin
X-WR-CALDESC:Veranstaltungen für Kulturerbenetz.Berlin
REFRESH-INTERVAL;VALUE=DURATION:PT1H
X-Robots-Tag:noindex
X-PUBLISHED-TTL:PT1H
BEGIN:VTIMEZONE
TZID:Europe/Berlin
BEGIN:DAYLIGHT
TZOFFSETFROM:+0100
TZOFFSETTO:+0200
TZNAME:CEST
DTSTART:20250330T010000
END:DAYLIGHT
BEGIN:STANDARD
TZOFFSETFROM:+0200
TZOFFSETTO:+0100
TZNAME:CET
DTSTART:20251026T010000
END:STANDARD
BEGIN:DAYLIGHT
TZOFFSETFROM:+0100
TZOFFSETTO:+0200
TZNAME:CEST
DTSTART:20260329T010000
END:DAYLIGHT
BEGIN:STANDARD
TZOFFSETFROM:+0200
TZOFFSETTO:+0100
TZNAME:CET
DTSTART:20261025T010000
END:STANDARD
BEGIN:DAYLIGHT
TZOFFSETFROM:+0100
TZOFFSETTO:+0200
TZNAME:CEST
DTSTART:20270328T010000
END:DAYLIGHT
BEGIN:STANDARD
TZOFFSETFROM:+0200
TZOFFSETTO:+0100
TZNAME:CET
DTSTART:20271031T010000
END:STANDARD
END:VTIMEZONE
BEGIN:VEVENT
DTSTART;TZID=Europe/Berlin:20260903T130000
DTEND;TZID=Europe/Berlin:20260903T134500
DTSTAMP:20260426T033722
CREATED:20260421T091350Z
LAST-MODIFIED:20260421T091448Z
UID:12407-1788440400-1788443100@kulturerbenetz.berlin
SUMMARY:AAA-Talk: Bogensee
DESCRIPTION:Donnerstag 3. September 2026 13:00 – 13:45 Uhr: Wie wird aus einem Ort der Diktatur ein Ort der demokratischen Selbstvergewisserung? \n\n\n\nDas geschichtsträchtige Bogensee-Areal bei Wandlitz steht an einem Wendepunkt. Lange Zeit vom Verfall bedroht\, gibt es nun eine neue Vision für das Gelände mit seiner komplexen Vergangenheit aus NS-Diktatur und DDR-Zeit. Wir freuen uns\, Andreas Barz von der Initiative Freundeskreis Bogensee zum Gespräch begrüßen zu dürfen. Der neu gegründete Zusammenschluss aus Zivilgesellschaft\, Wissenschaft und Politik setzt sich dafür ein\, das Areal zu einem europäischen Campus für Demokratie und Menschenrechte zu entwickeln.   \n\n\n\nModeration: Corinna Tell\, Redaktion Rote Liste im Deutschen Verband für Kunstgeschichte \n\n\n\nOnline-Teilnahme via: https://us06web.zoom.us/j/2436945325?pwd=bHZNQmhZODQrRldzQ3h4R3NVZms2Zz09
URL:https://kulturerbenetz.berlin/veranstaltung/aaa-talk-bogensee/
LOCATION:Online-Angebote\, Links siehe Beitrag\, Deutschland
CATEGORIES:Anti-Abriss-Allianz,Diskussions-Veranstaltungen,KENB-Mitglieder-Events,Live-Streams,Rote Liste,Veranstaltungen,Vorträge
ATTACH;FMTTYPE=image/jpeg:https://kulturerbenetz.berlin/wp-content/uploads/2026/01/Bogensee.jpg
ORGANIZER;CN="Anti-Abriss-Allianz f%C3%BCr Umbaukultur (AAA)":MAILTO:info@anti-abriss-allianz.de
END:VEVENT
END:VCALENDAR