BEGIN:VCALENDAR
VERSION:2.0
PRODID:-//Kulturerbenetz.Berlin - ECPv6.15.20//NONSGML v1.0//EN
CALSCALE:GREGORIAN
METHOD:PUBLISH
X-WR-CALNAME:Kulturerbenetz.Berlin
X-ORIGINAL-URL:https://kulturerbenetz.berlin
X-WR-CALDESC:Veranstaltungen für Kulturerbenetz.Berlin
REFRESH-INTERVAL;VALUE=DURATION:PT1H
X-Robots-Tag:noindex
X-PUBLISHED-TTL:PT1H
BEGIN:VTIMEZONE
TZID:Europe/Berlin
BEGIN:DAYLIGHT
TZOFFSETFROM:+0100
TZOFFSETTO:+0200
TZNAME:CEST
DTSTART:20250330T010000
END:DAYLIGHT
BEGIN:STANDARD
TZOFFSETFROM:+0200
TZOFFSETTO:+0100
TZNAME:CET
DTSTART:20251026T010000
END:STANDARD
BEGIN:DAYLIGHT
TZOFFSETFROM:+0100
TZOFFSETTO:+0200
TZNAME:CEST
DTSTART:20260329T010000
END:DAYLIGHT
BEGIN:STANDARD
TZOFFSETFROM:+0200
TZOFFSETTO:+0100
TZNAME:CET
DTSTART:20261025T010000
END:STANDARD
BEGIN:DAYLIGHT
TZOFFSETFROM:+0100
TZOFFSETTO:+0200
TZNAME:CEST
DTSTART:20270328T010000
END:DAYLIGHT
BEGIN:STANDARD
TZOFFSETFROM:+0200
TZOFFSETTO:+0100
TZNAME:CET
DTSTART:20271031T010000
END:STANDARD
END:VTIMEZONE
BEGIN:VEVENT
DTSTART;TZID=Europe/Berlin:20260312T130000
DTEND;TZID=Europe/Berlin:20260312T140000
DTSTAMP:20260422T210621
CREATED:20260305T130508Z
LAST-MODIFIED:20260305T130700Z
UID:12199-1773320400-1773324000@kulturerbenetz.berlin
SUMMARY:AAA-Talk: Rave-Kultur
DESCRIPTION:Donnerstag\, 12. März 2026 13:00–13:45 Uhr: \n\n\n\nTanzen statt abreißen – die Berliner Rave-Kultur als subversive Raumaneignung\n\n\n\n\n\nWas würde passieren\, nähmen wir die Stadt als offenes Feld? Haben wir schon\, zumindest die Ravekultur der 1990er Jahre. Wenn in leerstehenden Häusern und Fabrikhallen\, auf Brachflächen und ungenutzten Zwischenräumen auf Zeit getanzt und bei Musik gefeiert wurde. Charlotte Emmler\, Gregor Bläsi und Julia Sohl haben untersucht\, wie diese subversive Praxis bis heute in Berlin weiterlebt. Jenseits bürgerlicher oder gar gesetzlicher Regeln wird Stadt neu und kreativ und manchmal auch brutal neu verhandelt. Im Anti-Abriss-Online-Talk berichten Emmler\, Bläsi und Sohl\, ob solche improvisierten\, spontan umgebauten oder auf Zeit genutzten Räume als Strategie für unsere heutige und zukünftige architektonische und soziale Praxis taugen. \n\n\n\n\n\n\n\n\n\n\n\nModeration: Karin Berkemann\, moderneREGIONALNähere Informationen hier: https://kulturerbenetz.berlin/anti-abriss-allianz/info-reihe/Die Teilnahme ist kostenfrei und ohne Anmeldung möglich hier:https://us06web.zoom.us/j/2436945325?pwd=bHZNQmhZODQrRldzQ3h4R3NVZms2Zz09 \n\n\n\nBildnachweis: Gerhard Doerries\, CC BY SA 2.5
URL:https://kulturerbenetz.berlin/veranstaltung/aaa-talk-rave-kultur/
LOCATION:Online-Angebote\, Links siehe Beitrag\, Deutschland
CATEGORIES:Anti-Abriss-Allianz,Diskussions-Veranstaltungen,KulturerbeNetz-Termine,Live-Streams,Vorträge
ATTACH;FMTTYPE=image/jpeg:https://kulturerbenetz.berlin/wp-content/uploads/2026/03/berlin-sound-plakate-1983-bild-Gerhard-Doerries-cc-by-sa-2.5-1983-1.jpg
ORGANIZER;CN="Anti-Abriss-Allianz f%C3%BCr Umbaukultur (AAA)":MAILTO:info@anti-abriss-allianz.de
END:VEVENT
END:VCALENDAR