BEGIN:VCALENDAR
VERSION:2.0
PRODID:-//Kulturerbenetz.Berlin - ECPv6.15.20//NONSGML v1.0//EN
CALSCALE:GREGORIAN
METHOD:PUBLISH
X-WR-CALNAME:Kulturerbenetz.Berlin
X-ORIGINAL-URL:https://kulturerbenetz.berlin
X-WR-CALDESC:Veranstaltungen für Kulturerbenetz.Berlin
REFRESH-INTERVAL;VALUE=DURATION:PT1H
X-Robots-Tag:noindex
X-PUBLISHED-TTL:PT1H
BEGIN:VTIMEZONE
TZID:Europe/Berlin
BEGIN:DAYLIGHT
TZOFFSETFROM:+0100
TZOFFSETTO:+0200
TZNAME:CEST
DTSTART:20250330T010000
END:DAYLIGHT
BEGIN:STANDARD
TZOFFSETFROM:+0200
TZOFFSETTO:+0100
TZNAME:CET
DTSTART:20251026T010000
END:STANDARD
BEGIN:DAYLIGHT
TZOFFSETFROM:+0100
TZOFFSETTO:+0200
TZNAME:CEST
DTSTART:20260329T010000
END:DAYLIGHT
BEGIN:STANDARD
TZOFFSETFROM:+0200
TZOFFSETTO:+0100
TZNAME:CET
DTSTART:20261025T010000
END:STANDARD
BEGIN:DAYLIGHT
TZOFFSETFROM:+0100
TZOFFSETTO:+0200
TZNAME:CEST
DTSTART:20270328T010000
END:DAYLIGHT
BEGIN:STANDARD
TZOFFSETFROM:+0200
TZOFFSETTO:+0100
TZNAME:CET
DTSTART:20271031T010000
END:STANDARD
END:VTIMEZONE
BEGIN:VEVENT
DTSTART;TZID=Europe/Berlin:20260521T120000
DTEND;TZID=Europe/Berlin:20260521T124500
DTSTAMP:20260422T210743
CREATED:20260421T090527Z
LAST-MODIFIED:20260421T090714Z
UID:12400-1779364800-1779367500@kulturerbenetz.berlin
SUMMARY:AAA-Talk: Schwarzbuch
DESCRIPTION:Donnerstag 21. Mai 2026 12:00 – 12:45 Uhr: Ein Verzeichnis verlorener Geschichte – Bericht über das Projekt „Schwarzbuch der Denkmalpflege der Deutschen Stiftung Denkmalschutz“ \n\n\n\nDie Deutsche Stiftung Denkmalschutz (DSD) brachte im August 2025 erstmals das „Schwarzbuch der Denkmalpflege“ heraus. Damit erregte sie große öffentliche Aufmerksamkeit für den fortlaufenden Abbruch von denkmalgeschützter Bausubstanz. In einer Zeit\, in der die Bauwende zum zentralen Hebel für das Erreichen unserer Klimaziele geworden ist\, rückt diese Publikation die systemischen Versäumnisse im Umgang mit unserem Bestand in den Fokus. In der aktuellen Debatte um die Bauwende fungiert das Schwarzbuch als Mahnmal und Wegweiser zugleich. Eva Masthoff (Deutsche Stiftung Denkmalschutz) zeigt auf\, wie die Idee und das Buch entstanden sind und berichtet über die Resonanzen zu dieser Veröffentlichung\, die ab sofort jährlich erscheinen wird.  \n\n\n\nModeration: Corinna Tell (Rote Liste im Deutschen Verband für Kunstgeschichte) \n\n\n\nOnline-Teilnahme:  https://us06web.zoom.us/j/2436945325?pwd=bHZNQmhZODQrRldzQ3h4R3NVZms2Zz09
URL:https://kulturerbenetz.berlin/veranstaltung/aaa-talk-schwarzbuch/
LOCATION:Online-Angebote\, Links siehe Beitrag\, Deutschland
CATEGORIES:Anti-Abriss-Allianz,Diskussions-Veranstaltungen,KulturerbeNetz-Termine,Live-Streams,Rote Liste,Veranstaltungen,Vorträge
ATTACH;FMTTYPE=image/jpeg:https://kulturerbenetz.berlin/wp-content/uploads/2025/08/DSD-Schwarzbuch_Visual.jpg
ORGANIZER;CN="Anti-Abriss-Allianz f%C3%BCr Umbaukultur (AAA)":MAILTO:info@anti-abriss-allianz.de
END:VEVENT
END:VCALENDAR