BEGIN:VCALENDAR
VERSION:2.0
PRODID:-//Kulturerbenetz.Berlin - ECPv6.15.20//NONSGML v1.0//EN
CALSCALE:GREGORIAN
METHOD:PUBLISH
X-WR-CALNAME:Kulturerbenetz.Berlin
X-ORIGINAL-URL:https://kulturerbenetz.berlin
X-WR-CALDESC:Veranstaltungen für Kulturerbenetz.Berlin
REFRESH-INTERVAL;VALUE=DURATION:PT1H
X-Robots-Tag:noindex
X-PUBLISHED-TTL:PT1H
BEGIN:VTIMEZONE
TZID:Europe/Berlin
BEGIN:DAYLIGHT
TZOFFSETFROM:+0100
TZOFFSETTO:+0200
TZNAME:CEST
DTSTART:20240331T010000
END:DAYLIGHT
BEGIN:STANDARD
TZOFFSETFROM:+0200
TZOFFSETTO:+0100
TZNAME:CET
DTSTART:20241027T010000
END:STANDARD
BEGIN:DAYLIGHT
TZOFFSETFROM:+0100
TZOFFSETTO:+0200
TZNAME:CEST
DTSTART:20250330T010000
END:DAYLIGHT
BEGIN:STANDARD
TZOFFSETFROM:+0200
TZOFFSETTO:+0100
TZNAME:CET
DTSTART:20251026T010000
END:STANDARD
BEGIN:DAYLIGHT
TZOFFSETFROM:+0100
TZOFFSETTO:+0200
TZNAME:CEST
DTSTART:20260329T010000
END:DAYLIGHT
BEGIN:STANDARD
TZOFFSETFROM:+0200
TZOFFSETTO:+0100
TZNAME:CET
DTSTART:20261025T010000
END:STANDARD
END:VTIMEZONE
BEGIN:VEVENT
DTSTART;TZID=Europe/Berlin:20250910T190000
DTEND;TZID=Europe/Berlin:20250910T210000
DTSTAMP:20260424T144449
CREATED:20250820T122710Z
LAST-MODIFIED:20250820T124831Z
UID:11243-1757530800-1757538000@kulturerbenetz.berlin
SUMMARY:Alternativen zum Abriss
DESCRIPTION:Berlin erlebt aktuell eine Abrisswelle. Viele Gebäude\, wie der Düttmann-Bau An der Urania\, das Constanze-Pressehaus und zahlreiche Wohnhäuser wurden bereits beseitigt. Weitere Bauten\, wie das SEZ\, die Stadtbibliothek Tempelhof oder die Pyramide am Hafenplatz sind vom Abriss bedroht. \n\n\n\nGleichzeitig engagieren sich zahlreiche Initiativen gegen den Abriss von Gebäuden. Die vom KulturerbeNetz mit betriebene Gründung der Anti-Abriss-Allianz hat dieser Bewegung eine zusätzliche Dynamik beschert. Im Rahmen der Diskussions-Veranstaltung der Hermann-Henselmann-Stiftung in der Stadtwerkstatt am Alexanderplatz sollen Erfahrungen mit dem Anti-Abriss-Engagement ausgetauscht werden. Im Mittelpunkt soll die Frage stehen\, wie Abrisse erfolgreicher verhindert werden können.
URL:https://kulturerbenetz.berlin/veranstaltung/alternativen-zum-abriss/
LOCATION:Stadtwerkstadt Berlin\, Karl-Liebknecht-Straße 11\, Berlin\, 10178\, Deutschland
ATTACH;FMTTYPE=image/jpeg:https://kulturerbenetz.berlin/wp-content/uploads/2025/08/HHS-Disk_Abriss_10-09-2025-1.jpg
ORGANIZER;CN="Anti-Abriss-Allianz f%C3%BCr Umbaukultur (AAA)":MAILTO:info@anti-abriss-allianz.de
END:VEVENT
END:VCALENDAR