BEGIN:VCALENDAR
VERSION:2.0
PRODID:-//Kulturerbenetz.Berlin - ECPv6.15.20//NONSGML v1.0//EN
CALSCALE:GREGORIAN
METHOD:PUBLISH
X-WR-CALNAME:Kulturerbenetz.Berlin
X-ORIGINAL-URL:https://kulturerbenetz.berlin
X-WR-CALDESC:Veranstaltungen für Kulturerbenetz.Berlin
REFRESH-INTERVAL;VALUE=DURATION:PT1H
X-Robots-Tag:noindex
X-PUBLISHED-TTL:PT1H
BEGIN:VTIMEZONE
TZID:Europe/Berlin
BEGIN:DAYLIGHT
TZOFFSETFROM:+0100
TZOFFSETTO:+0200
TZNAME:CEST
DTSTART:20250330T010000
END:DAYLIGHT
BEGIN:STANDARD
TZOFFSETFROM:+0200
TZOFFSETTO:+0100
TZNAME:CET
DTSTART:20251026T010000
END:STANDARD
BEGIN:DAYLIGHT
TZOFFSETFROM:+0100
TZOFFSETTO:+0200
TZNAME:CEST
DTSTART:20260329T010000
END:DAYLIGHT
BEGIN:STANDARD
TZOFFSETFROM:+0200
TZOFFSETTO:+0100
TZNAME:CET
DTSTART:20261025T010000
END:STANDARD
BEGIN:DAYLIGHT
TZOFFSETFROM:+0100
TZOFFSETTO:+0200
TZNAME:CEST
DTSTART:20270328T010000
END:DAYLIGHT
BEGIN:STANDARD
TZOFFSETFROM:+0200
TZOFFSETTO:+0100
TZNAME:CET
DTSTART:20271031T010000
END:STANDARD
END:VTIMEZONE
BEGIN:VEVENT
DTSTART;TZID=Europe/Berlin:20260121T170000
DTEND;TZID=Europe/Berlin:20260121T183000
DTSTAMP:20260422T210846
CREATED:20260108T095238Z
LAST-MODIFIED:20260108T100107Z
UID:11886-1769014800-1769020200@kulturerbenetz.berlin
SUMMARY:Bauwende-Podium
DESCRIPTION:Difu-Dialog online (Anmeldung erforderlich)\n\n\n\nBauwende vor Ort – klimaangepasst und ressourcenschonend\n\n\n\n \n\n\n\n\n\nDie Bauwende ist eine Antwort auf die Herausforderungen des Klimaschutzes und der Ressourcenschonung\, auch in den Kommunen – zum Beispiel als planende Ebene sowie Eigentümer:innen von Gebäuden. Im Difu-Dialog werden die Rolle und die Gestaltungsoptionen der Kommunen in der Bauwende beleuchtet. \n\n\n\nDie Bauwende ist gemeinsam mit der Energiewende eine der wichtigsten Stellschrauben für das Erreichen der Klimaziele. Die Bauwende umfasst Schritte und Maßnahmen für ressourcen- und klimaschonende Planung\, Bau\, Betrieb und Nutzung von Gebäuden und Infrastruktur\, sowohl im Bestands- als auch im Neubau. Dabei sind Bauweisen\, -materialien und -methoden so zu gestalten\, dass Ressourcen geschont und das Klima so wenig wie möglich belastet werden. Dazu gehören flächensparende Entwicklungen\, nachhaltige und rückbaufähige Baustoffe und klimaneutrale Gebäude. Im Difu-Dialog wird die wichtige Rolle der Kommunen bei der Bauwende vor Ort diskutiert. Der Dialog wird gemeinsam u.a. mit dem Bauhaus der Erde durchgeführt. \n\n\n\nGäste auf dem Podium: \n\n\n\n\nTheresa Keilhacker\, ArchitektinKazanski\, Keilhacker Urban Design. Architektur\, Berlin\n\n\n\nDr. Matthias Lerm\, Amtsleitung Stadtplanung und MobilitätLandeshauptstadt Dresden\n\n\n\nProf. Dr. Philipp Misselwitz\, Professur Entwerfen und internationale UrbanistikHabitat Unit\, Bauhaus der Erde und TU Berlin\n\n\n\n\nModeration: \n\n\n\n\nDipl.-Ing. agr. Thomas Preuß\, Difu\, Berlin\n\n\n\nDipl.-Ing. Maic Verbücheln Difu\, Berlin\n\n\n\n\nAnschließend Fragen und Diskussion – auch mit dem Publikum \n\n\n\nDramaturgieDie Vortrags- und Dialogreihe widmet sich verschiedenen aktuellen Themen zur „Zukunft der Städte“. Je nach Themenschwerpunkt setzt sich der Kreis der Teilnehmenden aus Politik\, Bundes- und Landesverwaltungen\, Bezirksämtern\, Stadtverwaltungen\, Medien sowie anderen öffentlichen und privaten Einrichtungen unterschiedlich zusammen. Nach dem Input der Podiumsgäste ist Zeit für Fragen und Diskussion – auch mit dem Publikum. \n\n\n\nOnline-Anmeldung und weitere Infos zur Veranstaltung:difu.de/19139 \n\n\n\nBitte beachten Sie\, dass Sie mit dem Absenden der Anmeldung zunächst eine Mail bekommen\, in welcher Sie aufgefordert werden\, Ihre Mail zu verifizieren. Nach Bestätigung von Ihrer Seite erhalten Sie im zweiten Schritt dann die Anmeldebestätigung.
URL:https://kulturerbenetz.berlin/veranstaltung/bauwende-podium/
LOCATION:Deutsches Institut für Urbanistik gGmbH\, Zimmerstraße 13-15\, Berlin\, 10969
ATTACH;FMTTYPE=image/jpeg:https://kulturerbenetz.berlin/wp-content/uploads/2026/01/Bildschirmfoto-2026-01-08-um-10.46.11.jpg
END:VEVENT
END:VCALENDAR