BEGIN:VCALENDAR
VERSION:2.0
PRODID:-//Kulturerbenetz.Berlin - ECPv6.15.20//NONSGML v1.0//EN
CALSCALE:GREGORIAN
METHOD:PUBLISH
X-WR-CALNAME:Kulturerbenetz.Berlin
X-ORIGINAL-URL:https://kulturerbenetz.berlin
X-WR-CALDESC:Veranstaltungen für Kulturerbenetz.Berlin
REFRESH-INTERVAL;VALUE=DURATION:PT1H
X-Robots-Tag:noindex
X-PUBLISHED-TTL:PT1H
BEGIN:VTIMEZONE
TZID:Europe/Berlin
BEGIN:DAYLIGHT
TZOFFSETFROM:+0100
TZOFFSETTO:+0200
TZNAME:CEST
DTSTART:20220327T010000
END:DAYLIGHT
BEGIN:STANDARD
TZOFFSETFROM:+0200
TZOFFSETTO:+0100
TZNAME:CET
DTSTART:20221030T010000
END:STANDARD
BEGIN:DAYLIGHT
TZOFFSETFROM:+0100
TZOFFSETTO:+0200
TZNAME:CEST
DTSTART:20230326T010000
END:DAYLIGHT
BEGIN:STANDARD
TZOFFSETFROM:+0200
TZOFFSETTO:+0100
TZNAME:CET
DTSTART:20231029T010000
END:STANDARD
BEGIN:DAYLIGHT
TZOFFSETFROM:+0100
TZOFFSETTO:+0200
TZNAME:CEST
DTSTART:20240331T010000
END:DAYLIGHT
BEGIN:STANDARD
TZOFFSETFROM:+0200
TZOFFSETTO:+0100
TZNAME:CET
DTSTART:20241027T010000
END:STANDARD
END:VTIMEZONE
BEGIN:VEVENT
DTSTART;TZID=Europe/Berlin:20231207T100000
DTEND;TZID=Europe/Berlin:20231207T113000
DTSTAMP:20260420T123645
CREATED:20230202T105543Z
LAST-MODIFIED:20230925T083323Z
UID:5034-1701943200-1701948600@kulturerbenetz.berlin
SUMMARY:DSD Online-Seminare 2023
DESCRIPTION:In zumeist einstündigen Online-Vorträgen bietet die Deutsche Stiftung Denkmalschutz (DSD) auch 2023 verschiedene Online-Vorträge zu diversen Wissensgebieten an. Während der Online-Seminare haben alle angemeldeten Teilnehmer die Möglichkeit\, sich per Chat aktiv zu beteiligen und Fragen an den/die Referent/in zu stellen. \n\n\n\nDie Online-Seminaren sind kostenlos und beginnen jeweils um 10:00 Uhr. Eine vorherige Registrierung auf der Website der DSD ist erforderlich. Nach erfolgreicher Anmeldung erhalten Sie eine Bestätigungs-E-Mail mit Zugangscode\, mit dem Sie sich 15 Minuten vor Veranstaltungsbeginn einloggen können.  \n\n\n\nBei den Themen wird zwischen Basiswissen und Praxishilfe unterschieden. Im Bereich Basiswissen stehen dieses Jahre etwa Seminare zu den Themen Grundlagenwissen (23.2.)\, Nachhaltigkeit (9.3.)\, Vermittlung-Talente (23.3.)\, Materialkunde Stein (22.6.)\, Schadenserkennung (7.9.+ 7.12.)\, Klimawandel-Auswirkung auf Grünanlagen (21.9.).  \n\n\n\nWeitere Information und Anmeldemöglichkeiten finden Sie hier: \n\n\n\nhttps://www.denkmalschutz.de/denkmale-erleben/denkmalakademie/online-seminare.html
URL:https://kulturerbenetz.berlin/veranstaltung/dsd-online-seminare/
LOCATION:Online-Angebote\, Links siehe Beitrag\, Deutschland
CATEGORIES:Live-Streams,Veranstaltungen,Vorträge
ATTACH;FMTTYPE=image/jpeg:https://kulturerbenetz.berlin/wp-content/uploads/2022/01/KENB-News_Online-Semiare_DSD-2022-1.jpg
END:VEVENT
END:VCALENDAR