BEGIN:VCALENDAR
VERSION:2.0
PRODID:-//Kulturerbenetz.Berlin - ECPv6.15.20//NONSGML v1.0//EN
CALSCALE:GREGORIAN
METHOD:PUBLISH
X-WR-CALNAME:Kulturerbenetz.Berlin
X-ORIGINAL-URL:https://kulturerbenetz.berlin
X-WR-CALDESC:Veranstaltungen für Kulturerbenetz.Berlin
REFRESH-INTERVAL;VALUE=DURATION:PT1H
X-Robots-Tag:noindex
X-PUBLISHED-TTL:PT1H
BEGIN:VTIMEZONE
TZID:Europe/Berlin
BEGIN:DAYLIGHT
TZOFFSETFROM:+0100
TZOFFSETTO:+0200
TZNAME:CEST
DTSTART:20220327T010000
END:DAYLIGHT
BEGIN:STANDARD
TZOFFSETFROM:+0200
TZOFFSETTO:+0100
TZNAME:CET
DTSTART:20221030T010000
END:STANDARD
BEGIN:DAYLIGHT
TZOFFSETFROM:+0100
TZOFFSETTO:+0200
TZNAME:CEST
DTSTART:20230326T010000
END:DAYLIGHT
BEGIN:STANDARD
TZOFFSETFROM:+0200
TZOFFSETTO:+0100
TZNAME:CET
DTSTART:20231029T010000
END:STANDARD
BEGIN:DAYLIGHT
TZOFFSETFROM:+0100
TZOFFSETTO:+0200
TZNAME:CEST
DTSTART:20240331T010000
END:DAYLIGHT
BEGIN:STANDARD
TZOFFSETFROM:+0200
TZOFFSETTO:+0100
TZNAME:CET
DTSTART:20241027T010000
END:STANDARD
END:VTIMEZONE
BEGIN:VEVENT
DTSTART;TZID=Europe/Berlin:20231215T163000
DTEND;TZID=Europe/Berlin:20231215T183000
DTSTAMP:20260420T141301
CREATED:20231212T165921Z
LAST-MODIFIED:20231213T112902Z
UID:8102-1702657800-1702665000@kulturerbenetz.berlin
SUMMARY:Leuchten-KMA-G-Nord
DESCRIPTION:Die Karl-Marx-Allee ist Auftakt der großen Ost-West-Achse Berlins und repräsentiert sowohl Berliner als auch Internationale Bau- und Zeitgeschichte. Hinter den imposanten\, im neo-klassizistischen Stil der „Nationalen Tradition“ und im Duktus der Stalin-Ära gehaltenen Fassaden\, verbergen sich verblüffend moderne geschnittene und höchst komfortabel ausgestattete Wohnungen. Die Monumentalität der Magistrale beeindruckt bis heute. \n\n\n\n\n\n\n\nPassend zu der imposanten Architektur war die vom einstigen „Frankfurter Tor“ über den Strausberger Platz bis zum Alexanderplatz laufenden Magistrale zur Bauzeit auch entsprechend eindrucksvoll beleuchtet. Die seit Jahrzehnten erloschenen Laternen auf der Balustrade von Block G-Nord an der Frankfurter Allee 13-15 stammen von Fritz Kühn. Sie wurden auf Initiative der Eigentümergemeinschaft wieder restauriert und sollen nun wieder in Betrieb genommen werden: G-Nord erstrahlt wieder! \n\n\n\nDie Initiative hierzu geht von KulturerbeNetz-Mitglied Stalinbauten e.V.\, vertreten durch Achim Bahr und Iris Lier aus. Es ist zu hoffen\, dass dieses Beispiel bürgerschaftlichen Engagements wieder Schule macht und auch auf die sich anschließenden Blöcke ausstrahlt. Zur Feier der Wiederinbetriebnahme der Leuchten organisiert Stalinbauten e.V. – in Kooperation mit Landesdenkmalamt\, dem Bezirk und dem KulturerbeNetz – einen Festakt am Haus Frankfurter Allee 13-15. Dort wird es kurze Ansprachen und Live-Musik geben\, um dieses schöne Beispiel bürgerschaftlichen Engagements zu würdigen. \n\n\n\n\n\n\n\nWie die Inbetriebnahme der Uhr im Februar 2018\, wird die Illumination mit einem kleinen Festakt gewürdigt am: Freitag\, 15. Dezember 2023\, 16:30 Uhr \n\n\n\nAlle Bewohner des Hauses\, die Eigentümer und Nachbarn der Umgebung sind herzlich eingeladen\, am Haus Frankfurter Allee 13-15 mit zu feiern: https://www.google.com/maps/ \n\n\n\n\n\n\n\nDer Festakt wird eingeleitet mit kurzen Ansprachen von: \n\n\n\n\nBen Buschfeld\, KulturerbeNetz.Berlin\n\n\n\nWerner Heck\, Vorsteher der BVV Friedrichshain-Kreuzberg\n\n\n\nTill Peter Otto\, Untere Denkmalschutzbehörde Friedrichshain-Kreuzberg\n\n\n\nSabine Ambrosius\, Landesdenkmalamt Berlin\n\n\n\n\n– anschließend: \n\n\n\n\nLive-Musik von Rossano Snel\n\n\n\nWeitere Informationen: www.stalinbauten.de/illumination/
URL:https://kulturerbenetz.berlin/veranstaltung/illumination-kma/
CATEGORIES:Einweihungen,Haus- und Objektbesichtigungen,KENB-Mitglieder-Events,KulturerbeNetz-Termine,Landesdenkmalamt-Events
ATTACH;FMTTYPE=image/jpeg:https://kulturerbenetz.berlin/wp-content/uploads/2023/12/KMA_Illumination_G-Nord_Postkarte-1.jpg
END:VEVENT
END:VCALENDAR