BEGIN:VCALENDAR
VERSION:2.0
PRODID:-//Kulturerbenetz.Berlin - ECPv6.15.20//NONSGML v1.0//EN
CALSCALE:GREGORIAN
METHOD:PUBLISH
X-WR-CALNAME:Kulturerbenetz.Berlin
X-ORIGINAL-URL:https://kulturerbenetz.berlin
X-WR-CALDESC:Veranstaltungen für Kulturerbenetz.Berlin
REFRESH-INTERVAL;VALUE=DURATION:PT1H
X-Robots-Tag:noindex
X-PUBLISHED-TTL:PT1H
BEGIN:VTIMEZONE
TZID:Europe/Berlin
BEGIN:DAYLIGHT
TZOFFSETFROM:+0100
TZOFFSETTO:+0200
TZNAME:CEST
DTSTART:20240331T010000
END:DAYLIGHT
BEGIN:STANDARD
TZOFFSETFROM:+0200
TZOFFSETTO:+0100
TZNAME:CET
DTSTART:20241027T010000
END:STANDARD
BEGIN:DAYLIGHT
TZOFFSETFROM:+0100
TZOFFSETTO:+0200
TZNAME:CEST
DTSTART:20250330T010000
END:DAYLIGHT
BEGIN:STANDARD
TZOFFSETFROM:+0200
TZOFFSETTO:+0100
TZNAME:CET
DTSTART:20251026T010000
END:STANDARD
BEGIN:DAYLIGHT
TZOFFSETFROM:+0100
TZOFFSETTO:+0200
TZNAME:CEST
DTSTART:20260329T010000
END:DAYLIGHT
BEGIN:STANDARD
TZOFFSETFROM:+0200
TZOFFSETTO:+0100
TZNAME:CET
DTSTART:20261025T010000
END:STANDARD
END:VTIMEZONE
BEGIN:VEVENT
DTSTART;TZID=Europe/Berlin:20251128T150000
DTEND;TZID=Europe/Berlin:20251128T170000
DTSTAMP:20260419T222724
CREATED:20251114T194949Z
LAST-MODIFIED:20251114T194950Z
UID:11654-1764342000-1764349200@kulturerbenetz.berlin
SUMMARY:Info zum Studentendorf
DESCRIPTION:Foto: Mila Hacke\n\n\n\n\n\nDas Ortskuratorium Berlin der Deutschen Stiftung Denkmalschutz lädt ein zu einer Informationsveranstaltung mit Führung im Studentendorf Schlachtensee. am \n\n\n\nErfahren Sie mehr über die Entstehungsgeschichte des Studentendorfs\, seine architektonischen Besonderheiten und die aktuellen Entwicklungen des genossenschaftlich organisierten Denkmalschutzensembles. Bei einer Führung durchs Dorf können Sie sich selbst ein Bild vom besonderen Charakter dieser Anlage machen. \n\n\n\nEine Anmeldung übder die Website des DSD ist erforderlich.
URL:https://kulturerbenetz.berlin/veranstaltung/info-zum-studentendorf/
LOCATION:Studentendorf Schlachtensee (StDS)\, Wasgenstrasse 75 / Dorfplatz\, Berlin\, Berlin\, 14129\, Deutschland
CATEGORIES:Führungen,Haus- und Objektbesichtigungen,KENB-Mitglieder-Events
ATTACH;FMTTYPE=image/jpeg:https://kulturerbenetz.berlin/wp-content/uploads/2019/04/StDS-H17_02_MilaHacke_A6.jpg
END:VEVENT
END:VCALENDAR