BEGIN:VCALENDAR
VERSION:2.0
PRODID:-//Kulturerbenetz.Berlin - ECPv6.15.20//NONSGML v1.0//EN
CALSCALE:GREGORIAN
METHOD:PUBLISH
X-WR-CALNAME:Kulturerbenetz.Berlin
X-ORIGINAL-URL:https://kulturerbenetz.berlin
X-WR-CALDESC:Veranstaltungen für Kulturerbenetz.Berlin
REFRESH-INTERVAL;VALUE=DURATION:PT1H
X-Robots-Tag:noindex
X-PUBLISHED-TTL:PT1H
BEGIN:VTIMEZONE
TZID:Europe/Berlin
BEGIN:DAYLIGHT
TZOFFSETFROM:+0100
TZOFFSETTO:+0200
TZNAME:CEST
DTSTART:20240331T010000
END:DAYLIGHT
BEGIN:STANDARD
TZOFFSETFROM:+0200
TZOFFSETTO:+0100
TZNAME:CET
DTSTART:20241027T010000
END:STANDARD
BEGIN:DAYLIGHT
TZOFFSETFROM:+0100
TZOFFSETTO:+0200
TZNAME:CEST
DTSTART:20250330T010000
END:DAYLIGHT
BEGIN:STANDARD
TZOFFSETFROM:+0200
TZOFFSETTO:+0100
TZNAME:CET
DTSTART:20251026T010000
END:STANDARD
BEGIN:DAYLIGHT
TZOFFSETFROM:+0100
TZOFFSETTO:+0200
TZNAME:CEST
DTSTART:20260329T010000
END:DAYLIGHT
BEGIN:STANDARD
TZOFFSETFROM:+0200
TZOFFSETTO:+0100
TZNAME:CET
DTSTART:20261025T010000
END:STANDARD
END:VTIMEZONE
BEGIN:VEVENT
DTSTART;TZID=Europe/Berlin:20250910T180000
DTEND;TZID=Europe/Berlin:20250910T200000
DTSTAMP:20260424T132817
CREATED:20250820T141947Z
LAST-MODIFIED:20250828T170208Z
UID:11289-1757527200-1757534400@kulturerbenetz.berlin
SUMMARY:Nahwärmenetze im Bestand
DESCRIPTION:Die Bundesstiftung Bauakademie lädt Interessierte herzlich zur Diskussion am 10. September 2025\, 18:00 – 19:30 Uhr ein. Die Teilnahme kann in Präsenz vor Ort (Roter Saal der Bundesstiftung Bauakademie) oder online erfolgen: https://bundesstiftung-bauakademie.de/veranstaltungen/detail/tid-14-klimafreundlich-heizen-im-quartier-nahwaermenetze-im-bestand-erfolgreich-umsetzen \n\n\n\nScreenshot
URL:https://kulturerbenetz.berlin/veranstaltung/nahwaermenetze-im-bestand/
LOCATION:Roter Saal Schinkelplatz\, Schinkelplatz 1\, Berlin\, 10117\, Germany
CATEGORIES:Diskussions-Veranstaltungen,Messen und Konferenzen,Vorträge
ATTACH;FMTTYPE=image/jpeg:https://kulturerbenetz.berlin/wp-content/uploads/2025/08/BSBAK_NahwaermeNetze.jpg
END:VEVENT
END:VCALENDAR