BEGIN:VCALENDAR
VERSION:2.0
PRODID:-//Kulturerbenetz.Berlin - ECPv6.15.20//NONSGML v1.0//EN
CALSCALE:GREGORIAN
METHOD:PUBLISH
X-WR-CALNAME:Kulturerbenetz.Berlin
X-ORIGINAL-URL:https://kulturerbenetz.berlin
X-WR-CALDESC:Veranstaltungen für Kulturerbenetz.Berlin
REFRESH-INTERVAL;VALUE=DURATION:PT1H
X-Robots-Tag:noindex
X-PUBLISHED-TTL:PT1H
BEGIN:VTIMEZONE
TZID:Europe/Berlin
BEGIN:DAYLIGHT
TZOFFSETFROM:+0100
TZOFFSETTO:+0200
TZNAME:CEST
DTSTART:20250330T010000
END:DAYLIGHT
BEGIN:STANDARD
TZOFFSETFROM:+0200
TZOFFSETTO:+0100
TZNAME:CET
DTSTART:20251026T010000
END:STANDARD
BEGIN:DAYLIGHT
TZOFFSETFROM:+0100
TZOFFSETTO:+0200
TZNAME:CEST
DTSTART:20260329T010000
END:DAYLIGHT
BEGIN:STANDARD
TZOFFSETFROM:+0200
TZOFFSETTO:+0100
TZNAME:CET
DTSTART:20261025T010000
END:STANDARD
BEGIN:DAYLIGHT
TZOFFSETFROM:+0100
TZOFFSETTO:+0200
TZNAME:CEST
DTSTART:20270328T010000
END:DAYLIGHT
BEGIN:STANDARD
TZOFFSETFROM:+0200
TZOFFSETTO:+0100
TZNAME:CET
DTSTART:20271031T010000
END:STANDARD
END:VTIMEZONE
BEGIN:VEVENT
DTSTART;TZID=Europe/Berlin:20260319T100000
DTEND;TZID=Europe/Berlin:20261210T110000
DTSTAMP:20260422T210135
CREATED:20250118T105000Z
LAST-MODIFIED:20260227T100406Z
UID:8197-1773914400-1796900400@kulturerbenetz.berlin
SUMMARY:Online-Seminare DSD-2026
DESCRIPTION:Die Deutsche Stiftung Denkmalschutz ist nicht nur der größte private Fördergeber für Denkmalerhalt in Deutschland\, sondern auch ein Wissenszentrum für Denkmaltheorie und Denkmalpraxis. Die DenkmalAkademie ist das Bildungsinstitut der Deutschen Stiftung Denkmalschutz zur berufsbegleitenden Weiterbildung in der Denkmalpflege. \n\n\n\nAuf Seminaren oder auch Tagungen und Workshops können sich Architekt/innen\, Planende\, Mitarbeiter/innen von Baubehörden\, aber auch interessierte Privatleute oder Denkmaleigentümer/innen über spezifische Fachgebiete und Aufgabenstellungen\, aktuelle Trends oder Forschungsergebnisse der Denkmalpflege informieren. Die meisten Fortbildungsangebote sind als berufliche Fortbildung anerkannt\, die Teilnehmer erhalten ein entsprechendes Zertifikat. \n\n\n\nOnline-Vorträge der Deutschen Stiftung Denkmalschutz im Jahr 2025. Die Online-Vorträge sind kostenlos\, finden jeweils vormittags statt und dauern i.d.R. eine Stunde. Neben Online-Veranstaltungen werden auch kostenpflichtige Präsenz-Veranstaltungen in verschiedenen deutschen Städten angeboten. \n\n\n\nhttps://www.denkmalschutz.de/denkmale-erleben/denkmalakademie/online-seminare.html
URL:https://kulturerbenetz.berlin/veranstaltung/online-seminare-dsd-2024/
LOCATION:Online-Angebote\, Links siehe Beitrag\, Deutschland
CATEGORIES:Live-Streams,Seminare,Vorträge
ATTACH;FMTTYPE=image/jpeg:https://kulturerbenetz.berlin/wp-content/uploads/2025/01/DSD-Denkmalakademie_Logo.jpg
END:VEVENT
END:VCALENDAR